BEGIN:VCALENDAR
VERSION:2.0
PRODID:-//162.241.218.175//NONSGML kigkonsult.se iCalcreator 2.20//
CALSCALE:GREGORIAN
METHOD:PUBLISH
X-FROM-URL:https://www.torontoacademy.com
X-WR-TIMEZONE:America/Toronto
BEGIN:VTIMEZONE
TZID:America/Toronto
X-LIC-LOCATION:America/Toronto
BEGIN:STANDARD
DTSTART:20251102T020000
TZOFFSETFROM:-0400
TZOFFSETTO:-0500
RDATE:20261101T020000
TZNAME:EST
END:STANDARD
BEGIN:DAYLIGHT
DTSTART:20260308T020000
TZOFFSETFROM:-0500
TZOFFSETTO:-0400
TZNAME:EDT
END:DAYLIGHT
END:VTIMEZONE
BEGIN:VEVENT
UID:ai1ec-1703@www.torontoacademy.com
DTSTAMP:20260423T154353Z
CATEGORIES;LANGUAGE=en-US:Holiday
CONTACT:
DESCRIPTION:
DTSTART;VALUE=DATE:20260518
DTEND;VALUE=DATE:20260519
RDATE;TZID=America/Toronto:20190520T000000
RDATE;TZID=America/Toronto:20200518T000000
RDATE;TZID=America/Toronto:20210524T000000
RDATE;TZID=America/Toronto:20220523T000000
RDATE;TZID=America/Toronto:20230522T000000
RDATE;TZID=America/Toronto:20240520T000000
RDATE;TZID=America/Toronto:20250519T000000
RDATE;TZID=America/Toronto:20260518T000000
RDATE;TZID=America/Toronto:20270524T000000
RDATE;TZID=America/Toronto:20280522T000000
SEQUENCE:0
SUMMARY:Victoria Day
URL:https://www.torontoacademy.com/event/canada-day/
X-COST-TYPE:free
X-TAGS;LANGUAGE=en-US:holiday
END:VEVENT
BEGIN:VEVENT
UID:ai1ec-1702@www.torontoacademy.com
DTSTAMP:20260423T154353Z
CATEGORIES;LANGUAGE=en-US:Holiday
CONTACT:
DESCRIPTION:
DTSTART;VALUE=DATE:20260803
DTEND;VALUE=DATE:20260804
RDATE;TZID=America/Toronto:20190805T000000
RDATE;TZID=America/Toronto:20200803T000000
RDATE;TZID=America/Toronto:20210802T000000
RDATE;TZID=America/Toronto:20220801T000000
RDATE;TZID=America/Toronto:20230807T000000
RDATE;TZID=America/Toronto:20240805T000000
RDATE;TZID=America/Toronto:20250804T000000
RDATE;TZID=America/Toronto:20260803T000000
RDATE;TZID=America/Toronto:20270802T000000
RDATE;TZID=America/Toronto:20280807T000000
SEQUENCE:0
SUMMARY:Civic Holiday
URL:https://www.torontoacademy.com/event/statutory-holiday/
X-COST-TYPE:free
X-TAGS;LANGUAGE=en-US:holiday
END:VEVENT
BEGIN:VEVENT
UID:ai1ec-1704@www.torontoacademy.com
DTSTAMP:20260423T154353Z
CATEGORIES;LANGUAGE=en-US:Holiday
CONTACT:
DESCRIPTION:
DTSTART;VALUE=DATE:20260907
DTEND;VALUE=DATE:20260908
RDATE;TZID=America/Toronto:20190902T000000
RDATE;TZID=America/Toronto:20200907T000000
RDATE;TZID=America/Toronto:20210906T000000
RDATE;TZID=America/Toronto:20220905T000000
RDATE;TZID=America/Toronto:20230904T000000
RDATE;TZID=America/Toronto:20240902T000000
RDATE;TZID=America/Toronto:20250901T000000
RDATE;TZID=America/Toronto:20260907T000000
RDATE;TZID=America/Toronto:20270906T000000
RDATE;TZID=America/Toronto:20280904T000000
SEQUENCE:0
SUMMARY:Labour Day
URL:https://www.torontoacademy.com/event/labour-day/
X-COST-TYPE:free
X-TAGS;LANGUAGE=en-US:holiday
END:VEVENT
BEGIN:VEVENT
UID:ai1ec-1713@www.torontoacademy.com
DTSTAMP:20260423T154353Z
CATEGORIES;LANGUAGE=en-US:Holiday
CONTACT:
DESCRIPTION:
DTSTART;VALUE=DATE:20261012
DTEND;VALUE=DATE:20261013
RDATE;TZID=America/Toronto:20191014T000000
RDATE;TZID=America/Toronto:20201012T000000
RDATE;TZID=America/Toronto:20211011T000000
RDATE;TZID=America/Toronto:20221010T000000
RDATE;TZID=America/Toronto:20231009T000000
RDATE;TZID=America/Toronto:20241014T000000
RDATE;TZID=America/Toronto:20251013T000000
RDATE;TZID=America/Toronto:20261012T000000
RDATE;TZID=America/Toronto:20271011T000000
RDATE;TZID=America/Toronto:20281009T000000
SEQUENCE:0
SUMMARY:Thanksgiving Day
URL:https://www.torontoacademy.com/event/holiday-thanksgiving-day-2-2-2/
X-COST-TYPE:free
X-TAGS;LANGUAGE=en-US:holiday
END:VEVENT
BEGIN:VEVENT
UID:ai1ec-1708@www.torontoacademy.com
DTSTAMP:20260423T154353Z
CATEGORIES;LANGUAGE=en-US:Holiday
CONTACT:
DESCRIPTION:
DTSTART;VALUE=DATE:20270215
DTEND;VALUE=DATE:20270216
RDATE;TZID=America/Toronto:20190218T000000
RDATE;TZID=America/Toronto:20200217T000000
RDATE;TZID=America/Toronto:20210215T000000
RDATE;TZID=America/Toronto:20220221T000000
RDATE;TZID=America/Toronto:20230220T000000
RDATE;TZID=America/Toronto:20240219T000000
RDATE;TZID=America/Toronto:20250217T000000
RDATE;TZID=America/Toronto:20260216T000000
RDATE;TZID=America/Toronto:20270215T000000
RDATE;TZID=America/Toronto:20280221T000000
SEQUENCE:0
SUMMARY:Family Day
URL:https://www.torontoacademy.com/event/holiday-thanksgiving-day-4/
X-COST-TYPE:free
X-TAGS;LANGUAGE=en-US:holiday
END:VEVENT
BEGIN:VEVENT
UID:ai1ec-2074@www.torontoacademy.com
DTSTAMP:20260423T154353Z
CATEGORIES;LANGUAGE=en-US:Holiday
CONTACT:
DESCRIPTION:
DTSTART;VALUE=DATE:20270326
DTEND;VALUE=DATE:20270327
RDATE;TZID=America/Toronto:20190419T000000
RDATE;TZID=America/Toronto:20200410T000000
RDATE;TZID=America/Toronto:20210402T000000
RDATE;TZID=America/Toronto:20220415T000000
RDATE;TZID=America/Toronto:20230407T000000
RDATE;TZID=America/Toronto:20240329T000000
RDATE;TZID=America/Toronto:20250418T000000
RDATE;TZID=America/Toronto:20260403T000000
RDATE;TZID=America/Toronto:20270326T000000
RDATE;TZID=America/Toronto:20280414T000000
SEQUENCE:0
SUMMARY:Good Friday
URL:https://www.torontoacademy.com/event/holiday-thanksgiving-day-2-2-3/
X-COST-TYPE:free
X-TAGS;LANGUAGE=en-US:holiday
END:VEVENT
BEGIN:VEVENT
UID:ai1ec-2736@www.torontoacademy.com
DTSTAMP:20260423T154353Z
CATEGORIES;LANGUAGE=en-US:Holiday
CONTACT:
DESCRIPTION:
DTSTART;VALUE=DATE:20270329
DTEND;VALUE=DATE:20270330
RDATE;TZID=America/Toronto:20190422T000000
RDATE;TZID=America/Toronto:20200413T000000
RDATE;TZID=America/Toronto:20210405T000000
RDATE;TZID=America/Toronto:20220418T000000
RDATE;TZID=America/Toronto:20230410T000000
RDATE;TZID=America/Toronto:20240401T000000
RDATE;TZID=America/Toronto:20250421T000000
RDATE;TZID=America/Toronto:20260406T000000
RDATE;TZID=America/Toronto:20270329T000000
RDATE;TZID=America/Toronto:20280417T000000
SEQUENCE:0
SUMMARY:Easter Monday
URL:https://www.torontoacademy.com/event/holiday-thanksgiving-day-2-2-4/
X-COST-TYPE:free
X-TAGS;LANGUAGE=en-US:holiday
END:VEVENT
BEGIN:VEVENT
UID:ai1ec-1287@www.torontoacademy.com
DTSTAMP:20260423T154353Z
CATEGORIES;LANGUAGE=en-US:Special Events
CONTACT:Bert Freeman\; sensei@torontoacademy.com
DESCRIPTION:<h1>Stay tuned for more details!</h1>
DTSTART;TZID=America/Toronto:20260711T100000
DTEND;TZID=America/Toronto:20260711T160000
EXDATE;TZID=America/Toronto:20220709T100000
LOCATION:Lake Couchiching Park in Orillia
RDATE;TZID=America/Toronto:20190706T100000
RDATE;TZID=America/Toronto:20200704T100000
RDATE;TZID=America/Toronto:20210710T100000
RDATE;TZID=America/Toronto:20220709T100000
RDATE;TZID=America/Toronto:20230708T100000
RDATE;TZID=America/Toronto:20240713T100000
RDATE;TZID=America/Toronto:20250712T100000
RDATE;TZID=America/Toronto:20260711T100000
RDATE;TZID=America/Toronto:20270710T100000
RDATE;TZID=America/Toronto:20280708T100000
SEQUENCE:0
SUMMARY:Annual Outdoor Training & Summer Picnic CANCELLED
URL:https://www.torontoacademy.com/event/annual-outdoor-training-picnic-202
 0/
X-COST-TYPE:free
X-TAGS;LANGUAGE=en-US:2020\,karate\,outdoor\,SPECIAL EVENTS\,training
END:VEVENT
END:VCALENDAR
